BEGIN:VCALENDAR
VERSION:2.0
PRODID:-//IICL - ECPv6.15.20//NONSGML v1.0//EN
CALSCALE:GREGORIAN
METHOD:PUBLISH
X-ORIGINAL-URL:https://idahomtb.org
X-WR-CALDESC:Events for IICL
REFRESH-INTERVAL;VALUE=DURATION:PT1H
X-Robots-Tag:noindex
X-PUBLISHED-TTL:PT1H
BEGIN:VTIMEZONE
TZID:America/Boise
BEGIN:DAYLIGHT
TZOFFSETFROM:-0700
TZOFFSETTO:-0600
TZNAME:MDT
DTSTART:20250309T090000
END:DAYLIGHT
BEGIN:STANDARD
TZOFFSETFROM:-0600
TZOFFSETTO:-0700
TZNAME:MST
DTSTART:20251102T080000
END:STANDARD
BEGIN:DAYLIGHT
TZOFFSETFROM:-0700
TZOFFSETTO:-0600
TZNAME:MDT
DTSTART:20260308T090000
END:DAYLIGHT
BEGIN:STANDARD
TZOFFSETFROM:-0600
TZOFFSETTO:-0700
TZNAME:MST
DTSTART:20261101T080000
END:STANDARD
BEGIN:DAYLIGHT
TZOFFSETFROM:-0700
TZOFFSETTO:-0600
TZNAME:MDT
DTSTART:20270314T090000
END:DAYLIGHT
BEGIN:STANDARD
TZOFFSETFROM:-0600
TZOFFSETTO:-0700
TZNAME:MST
DTSTART:20271107T080000
END:STANDARD
END:VTIMEZONE
BEGIN:VEVENT
DTSTART;TZID=America/Boise:20260614T180000
DTEND;TZID=America/Boise:20260614T190000
DTSTAMP:20260424T211541
CREATED:20260424T160420Z
LAST-MODIFIED:20260424T160420Z
UID:10000256-1781460000-1781463600@idahomtb.org
SUMMARY:Nutrition for Female Athletes Webinar\, with Erin Green
DESCRIPTION:What:  Nutrition for Female Athletes Webinar\, with Erin Green \n  \nWhen:  June 14\, Sunday\, 6pm – 7pm \n  \nWhere: This is a virtual interactive webinar on Zoom so it’s available to our entire league! * Zoom link will be emailed to you a few days prior to the event.* \n  \nDetails:  Back by popular demand! This is going to be an AMAZING presentation designed specifically for our female student athletes\, female coaches\, and moms! Everyone is welcome though. Coaches\, she has great tips for everyone! \n  \nErin Green has a Master’s degree in dietetics and is a registered dietician nutritionist.  She also has a BS in Sports Science and is an accomplished cyclist and triathlete.  Erin loves working with women and girls and is very passionate about having a positive influence on the next generation of young\, female athletes.  Here’s an overview about what we’ll cover: \n\nIntro\nBasic Nutrition: Athlete’s Plate\, overview of the food groups and what they do for performance\nFueling for performance—pre\, during and post-activity nutrition + fueling on the go\, bike specific considerations for carrying fuel/fluid\, timeline for race day \nBody changes and female athletes – changes in shape\, size\, coordination\, breasts/hips and comfort of athletic clothing\, periods and symptom/bleeding management as an athlete\nSummary and goal setting \nQuestions \n\nCost:  FREE \nRegistration: LINK
URL:https://idahomtb.org/events-calendar/nutrition-for-female-athletes-webinar-with-erin-green/
CATEGORIES:GRiT
ATTACH;FMTTYPE=image/png:https://idahomtb.org/wp-content/uploads/ID-lockup-GRiT.png
END:VEVENT
BEGIN:VEVENT
DTSTART;TZID=America/Boise:20260615T190000
DTEND;TZID=America/Boise:20260615T203000
DTSTAMP:20260424T211541
CREATED:20260424T160635Z
LAST-MODIFIED:20260424T160635Z
UID:10000257-1781550000-1781555400@idahomtb.org
SUMMARY:East and West Idaho GRiT Coach Ride: Female Coaches & Moms
DESCRIPTION:What: East and West Idaho GRiT Coach Ride: Female Coaches & Moms  \nWhen: June 15\, Monday\, 7:00 – 8:30 PM  \nWhere: @ Cranky Cowboy Trail\, Ririe (East Idaho) \n @ Ada/Eagle Park\, Garden City (West Idaho) \nDetails: Come kick off the 2026 mountain bike season with a fun social ride just for our women coaches & moms. This event is open to ALL women! This will be an all levels\, social pace ride.  Light snacks will be served after our ride! \nCost: FREE \nRegistration: LINK (East Idaho) \n                       LINK (West Idaho)
URL:https://idahomtb.org/events-calendar/east-and-west-idaho-grit-coach-ride-female-coaches-moms/
CATEGORIES:GRiT
ATTACH;FMTTYPE=image/png:https://idahomtb.org/wp-content/uploads/ID-lockup-GRiT.png
END:VEVENT
BEGIN:VEVENT
DTSTART;TZID=America/Boise:20260620T090000
DTEND;TZID=America/Boise:20260620T163000
DTSTAMP:20260424T211541
CREATED:20260424T160903Z
LAST-MODIFIED:20260424T160903Z
UID:10000258-1781946000-1781973000@idahomtb.org
SUMMARY:East Idaho GRiT Women’s Bike Clinic
DESCRIPTION:What: East Idaho GRiT Women’s Bike Clinic \nWhen: June 20th\, 9am – 4:30pm \nWhere: Victor\, TBD \nDetails: Women’s only Bike Skills Clinic taught by Lindsay Nohl. Skills taught will be: \n\nbody position\ncontrolled braking\ncornering\ntrail vision\nswitchbacks\ntechnical maneuvers (for climbing and descending)\n\n*Beginner to Advanced Riders\n*Limited Class: 15 Coaches \nCost: $75 (NICA level 1+ coaches) \nRegistration: Click HERE
URL:https://idahomtb.org/events-calendar/east-idaho-grit-womens-bike-clinic/
CATEGORIES:GRiT
ATTACH;FMTTYPE=image/png:https://idahomtb.org/wp-content/uploads/ID-lockup-GRiT.png
END:VEVENT
BEGIN:VEVENT
DTSTART;TZID=America/Boise:20260622T190000
DTEND;TZID=America/Boise:20260622T200000
DTSTAMP:20260424T211541
CREATED:20260424T161016Z
LAST-MODIFIED:20260424T161016Z
UID:10000259-1782154800-1782158400@idahomtb.org
SUMMARY:East Idaho GRiT Basic Bike Mechanics Kick-Off
DESCRIPTION:What: East Idaho GRiT Basic Bike Mechanics Kick-Off \nWhen: June 22\, Monday @ 7:00 pm \nWhere: Smith Park\, Rexburg\, ID (near south picnic shelter) \nDetails: Essential bike mechanics for beginners include keeping tires properly inflated\, cleaning and lubricating the chain\, checking brake pads\, and ensuring bolts are tight. Learning to fix a flat tire\, indexing gears to prevent skipping\, and foundational skills to prevent repairs. \nCost: FREE \nRegistration: LINK
URL:https://idahomtb.org/events-calendar/east-idaho-grit-basic-bike-mechanics-kick-off/
CATEGORIES:GRiT
ATTACH;FMTTYPE=image/png:https://idahomtb.org/wp-content/uploads/ID-lockup-GRiT.png
END:VEVENT
BEGIN:VEVENT
DTSTART;TZID=America/Boise:20260628T200000
DTEND;TZID=America/Boise:20260628T210000
DTSTAMP:20260424T211541
CREATED:20260424T161118Z
LAST-MODIFIED:20260424T161118Z
UID:10000260-1782676800-1782680400@idahomtb.org
SUMMARY:GRiT Ambassador Call
DESCRIPTION:League hosted call for all GRiT ambassadors.  Reach out to Candice (grit@idahomtb.org) for details.
URL:https://idahomtb.org/events-calendar/grit-ambassador-call-3/
CATEGORIES:GRiT
ATTACH;FMTTYPE=image/png:https://idahomtb.org/wp-content/uploads/ID-lockup-GRiT.png
END:VEVENT
BEGIN:VEVENT
DTSTART;VALUE=DATE:20260705
DTEND;VALUE=DATE:20260708
DTSTAMP:20260424T211541
CREATED:20260304T210533Z
LAST-MODIFIED:20260415T144830Z
UID:10000226-1783209600-1783468799@idahomtb.org
SUMMARY:GRiT Intro Bikepacking - Cascade/McCall
DESCRIPTION:This is a trip intended for female student-athletes and coaches.  Camps will include instruction on packing your bikes\, backcountry camping\, Leave No Trace principles\, trip planning\, navigating\, route finding\, backcountry safety plus much more. Instruction will take place on-the-bike as we ride a section of either the Idaho Hotsprings Bikepacking Route or the Moody Forest Loop\, enjoying the gorgeous mountains of central and east Idaho. Each route will cover roughly 65 miles through some of the most beautiful terrain Idaho has to offer. We will ride primarily on Forest Service roads while camping at dispersed sites in the Payette and Targhee national forests. \nJuly 5-7\, 2026: GRiT Introduction Trip\n•  Warm Lake to McCall\n•  69 miles over 3 days of riding\n•  5\,973′ of climbing\,  6\,277′ of descent \nRegistration is completed in the Pit Zone.
URL:https://idahomtb.org/events-calendar/grit-intro-bikepacking-cascade-mccall-2/
CATEGORIES:Adventure,Camps,GRiT
ATTACH;FMTTYPE=image/jpeg:https://idahomtb.org/wp-content/uploads/GRiT-Bikepacking-07_websize.jpg
END:VEVENT
BEGIN:VEVENT
DTSTART;VALUE=DATE:20260709
DTEND;VALUE=DATE:20260712
DTSTAMP:20260424T211541
CREATED:20260304T210759Z
LAST-MODIFIED:20260415T144805Z
UID:10000228-1783555200-1783814399@idahomtb.org
SUMMARY:GRiT Intermediate Bikepacking - Cascade/McCall
DESCRIPTION:This is a trip intended for female student-athletes and coaches.  Camps will include instruction on packing your bikes\, backcountry camping\, Leave No Trace principles\, trip planning\, navigating\, route finding\, backcountry safety plus much more. Instruction will take place on-the-bike as we ride a section of either the Idaho Hotsprings Bikepacking Route or the Moody Forest Loop\, enjoying the gorgeous mountains of central and east Idaho. Each route will cover roughly 65 miles through some of the most beautiful terrain Idaho has to offer. We will ride primarily on Forest Service roads while camping at dispersed sites in the Payette and Targhee national forests. \nAs an intermediate camp\, this trip will include more self-supported riding and longer days on the bike. \nJuly 9-11\, 2025: GRiT Introduction Trip\n•  Warm Lake to McCall\n•  69 miles over 3 days of riding\n•  5\,973′ of climbing\,  6\,277′ of descent \nRegistration is completed in the Pit Zone.
URL:https://idahomtb.org/events-calendar/grit-intermediate-bikepacking-cascade-mccall-2/
CATEGORIES:Adventure,Camps,GRiT
ATTACH;FMTTYPE=image/jpeg:https://idahomtb.org/wp-content/uploads/GRiT-Bikepacking-07_websize.jpg
END:VEVENT
BEGIN:VEVENT
DTSTART;TZID=America/Boise:20260712T200000
DTEND;TZID=America/Boise:20260712T210000
DTSTAMP:20260424T211541
CREATED:20260424T161459Z
LAST-MODIFIED:20260424T161459Z
UID:10000266-1783886400-1783890000@idahomtb.org
SUMMARY:GRiT Coach Lead Call
DESCRIPTION:League hosted call for all team GRiT coach leads.  Reach out to Candice (grit@idahomtb.org) for details.
URL:https://idahomtb.org/events-calendar/grit-coach-lead-call-4/
CATEGORIES:GRiT
ATTACH;FMTTYPE=image/jpeg:https://idahomtb.org/wp-content/uploads/unnamed-2-e1776962425653.jpg
END:VEVENT
BEGIN:VEVENT
DTSTART;TZID=America/Boise:20260726T200000
DTEND;TZID=America/Boise:20260726T210000
DTSTAMP:20260424T211541
CREATED:20260424T161158Z
LAST-MODIFIED:20260424T161158Z
UID:10000261-1785096000-1785099600@idahomtb.org
SUMMARY:GRiT Ambassador Call
DESCRIPTION:League hosted call for all GRiT ambassadors.  Reach out to Candice (grit@idahomtb.org) for details.
URL:https://idahomtb.org/events-calendar/grit-ambassador-call-4/
CATEGORIES:GRiT
ATTACH;FMTTYPE=image/png:https://idahomtb.org/wp-content/uploads/ID-lockup-GRiT.png
END:VEVENT
BEGIN:VEVENT
DTSTART;VALUE=DATE:20260730
DTEND;VALUE=DATE:20260802
DTSTAMP:20260424T211541
CREATED:20260304T211425Z
LAST-MODIFIED:20260415T144724Z
UID:10000232-1785369600-1785628799@idahomtb.org
SUMMARY:GRiT Intro to Bikepacking - East Idaho
DESCRIPTION:This is a trip intended for female student-athletes and coaches and is an introduction trip intended for first time bikepackers.  Camps will include instruction on packing your bikes\, backcountry camping\, Leave No Trace principles\, trip planning\, navigating\, route finding\, backcountry safety plus much more. Instruction will take place on-the-bike as we ride through beautiful backcountry roads and trails\, enjoying the gorgeous mountains of central and east Idaho. Each route will cover roughly 65 miles through some of the most beautiful terrain Idaho has to offer. We will ride primarily on Forest Service roads while camping at dispersed sites in the Payette and Targhee national forests. \nJuly 30-August 1\, 2026: Beginner/Introduction Trip\n•  Start/Finish TBD\n•  TBD miles over 3 days of riding\n•  TBD’ of climbing and descent \nRegistration is completed in the Pit Zone.
URL:https://idahomtb.org/events-calendar/grit-intro-to-bikepacking-east-idaho/
CATEGORIES:Adventure,Camps,GRiT
ATTACH;FMTTYPE=image/jpeg:https://idahomtb.org/wp-content/uploads/GRiT-Bikepacking-07_websize.jpg
END:VEVENT
BEGIN:VEVENT
DTSTART;TZID=America/Boise:20260802T200000
DTEND;TZID=America/Boise:20260802T210000
DTSTAMP:20260424T211541
CREATED:20260424T161423Z
LAST-MODIFIED:20260424T161423Z
UID:10000265-1785700800-1785704400@idahomtb.org
SUMMARY:GRiT Coach Lead Call
DESCRIPTION:League hosted call for all team GRiT coach leads.  Reach out to Candice (grit@idahomtb.org) for details.
URL:https://idahomtb.org/events-calendar/grit-coach-lead-call-3/
CATEGORIES:GRiT
ATTACH;FMTTYPE=image/jpeg:https://idahomtb.org/wp-content/uploads/unnamed-2-e1776962425653.jpg
END:VEVENT
BEGIN:VEVENT
DTSTART;TZID=America/Boise:20260816T200000
DTEND;TZID=America/Boise:20260816T210000
DTSTAMP:20260424T211541
CREATED:20260424T161228Z
LAST-MODIFIED:20260424T161228Z
UID:10000262-1786910400-1786914000@idahomtb.org
SUMMARY:GRiT Ambassador Call
DESCRIPTION:League hosted call for all GRiT ambassadors.  Reach out to Candice (grit@idahomtb.org) for details.
URL:https://idahomtb.org/events-calendar/grit-ambassador-call-5/
CATEGORIES:GRiT
ATTACH;FMTTYPE=image/png:https://idahomtb.org/wp-content/uploads/ID-lockup-GRiT.png
END:VEVENT
BEGIN:VEVENT
DTSTART;TZID=America/Boise:20261018T190000
DTEND;TZID=America/Boise:20261018T200000
DTSTAMP:20260424T211541
CREATED:20260424T161304Z
LAST-MODIFIED:20260424T161304Z
UID:10000263-1792350000-1792353600@idahomtb.org
SUMMARY:GRiT Ambassador Call
DESCRIPTION:League hosted call for all GRiT ambassadors.  Reach out to Candice (grit@idahomtb.org) for details.
URL:https://idahomtb.org/events-calendar/grit-ambassador-call-6/
CATEGORIES:GRiT
ATTACH;FMTTYPE=image/png:https://idahomtb.org/wp-content/uploads/ID-lockup-GRiT.png
END:VEVENT
BEGIN:VEVENT
DTSTART;TZID=America/Boise:20261018T200000
DTEND;TZID=America/Boise:20261018T210000
DTSTAMP:20260424T211541
CREATED:20260424T161357Z
LAST-MODIFIED:20260424T161357Z
UID:10000264-1792353600-1792357200@idahomtb.org
SUMMARY:GRiT Coach Lead Call
DESCRIPTION:League hosted call for all team GRiT coach leads.  Reach out to Candice (grit@idahomtb.org) for details.
URL:https://idahomtb.org/events-calendar/grit-coach-lead-call-2/
CATEGORIES:GRiT
ATTACH;FMTTYPE=image/jpeg:https://idahomtb.org/wp-content/uploads/unnamed-2-e1776962425653.jpg
END:VEVENT
END:VCALENDAR